{"text_format":"1","workbook":"xlsx","n_sheets":9,"sheets":["Setup","DMIS","Data","Analysis","Database","Database charts","Data2","Translations","HiddenDataResult"],"not_rendered":{"charts":14,"images":1,"macros":1,"external_links":0,"defined_names":0,"comments":0,"pivot_tables":0},"unopened":[],"bounds":{"document_bytes":16777216,"sheet_cells":100000,"rows_first":2000,"rows_last":500,"rows_between":2000,"halvings":0,"cell_chars":16384,"cell_head_chars":4096},"cells_cut":0,"cells_raw":0,"read":"whole","date_system":"1900"}

{"sheet":"Setup","index":0,"n_rows":39,"n_cols":8,"rows_kept":39,"cut":false,"hidden":false,"merged":[[1,6,1,7],[5,0,7,0],[5,2,5,3],[6,2,6,3],[7,1,8,1],[7,4,8,4],[7,5,8,5],[7,7,8,7],[11,9,11,10],[13,2,13,3],[15,0,23,0],[19,1,22,1],[19,2,19,3],[20,2,20,3],[21,2,21,3],[22,2,22,3],[24,0,26,0],[25,2,25,3],[27,0,29,0],[28,2,28,3],[10,0,13,0],[10,2,10,3]]}
[{"$f":"Translations!B83","v":"MCG Tools"},null,null,null,null,null,null,"ABCDH"]
[{"$f":"Translations!B82","v":"Version 0.365.1"},null,null,null,null,null,{"$f":"NOW()","v":"2015-11-17T09:00:17.810"}]
[null,{"$f":"Translations!B2","v":"Setup"}]
[]
[]
[{"$f":"Translations!B3","v":"CMM"},{"$f":"Translations!B7","v":"Machine"},"CMM",null,{"$f":"Translations!B9","v":"Scales resolution"},1E-4,"mm"]
[null,{"$f":"Translations!B8","v":"Serial Number"},"Bridge",null,{"$f":"Translations!B10","v":"Single point repeatability"},1E-3,"mm"]
[null,{"$f":"Translations!B40","v":"Squareness sign convention"},4,null,{"$f":"Translations!B97","v":" (L in mm)"},2.5,"L",8]
[null,null,null,null,null,null,250]
[]
[{"$f":"Translations!B4","v":"Measurement configuration"},{"$f":"Translations!B17","v":"MCG Identification"},"SN",null,{"$f":"Translations!B11","v":"Probe type"},"TP20"]
[null,{"$f":"Translations!B18","v":"Arm length"},4,"mm",{"$f":"Translations!B12","v":"Probe Identification"},"W xx xxx"]
[]
[null,{"$f":"Translations!B16","v":"Operator"},"Operator"]
[]
[{"$f":"Translations!B86","v":"Measuring conditions"}]
[null,{"$f":"Translations!B87","v":"Temperature"},20,"degC"]
[null,{"$f":"Translations!B88","v":"Atmospheric pressure"},1013," mbar"]
[null,{"$f":"Translations!B89","v":"Air humidity"},50," %"]
[null,{"$f":"Translations!B81","v":"Comments"}]
[]
[]
[]
[]
[{"$f":"Translations!B5","v":"DMIS sequence"}]
[]
[]
[{"$f":"Translations!B6","v":"Data import and analysis"}]
[]
[]
[]
[{"$f":"Translations!B19","v":"Translation"},null,2]
[]
[]
[null,{"$f":"Translations!B112","v":"Renishaw, Inc"}]
[null,{"$f":"Translations!B113","v":"5277 Trillium Boulevard"}]
[null,{"$f":"Translations!B114","v":"Hoffman Estates, IL, 60175"}]
[null,{"$f":"Translations!B115","v":"Tel. (847) 286-9953"}]
[null,"www.renishaw.com"]

{"sheet":"DMIS","index":1,"n_rows":21,"n_cols":8,"rows_kept":21,"cut":false,"hidden":false,"merged":[[1,6,1,7]]}
[{"$f":"Translations!B83","v":"MCG Tools"},null,null,null,null,null,null,"ABCDH"]
[{"$f":"Translations!B82","v":"Version 0.365.1"},null,null,null,null,null,{"$f":"NOW()","v":"2015-11-17T09:00:17.810"}]
[null,{"$f":"Translations!B41","v":"DMIS Sequence"}]
[]
[]
[{"$f":"Translations!B116","v":"DMO File Name"},null,"c:\\Default.DMO"]
[]
[{"$f":"Translations!B27","v":"Radius"},null,380]
[]
[{"$f":"Translations!B44","v":"Number of points per circle"}]
[]
[{"$f":"Translations!B45","v":"Circles latitude"},null,45,{"$f":"Translations!B46","v":"° north, equator, "},40,{"$f":"Translations!B47","v":"° south"}]
[]
["Software"]
[]
[{"$f":"Translations!B56","v":"Fork length :"},null,30,"mm"]
[{"$f":"Translations!B57","v":"Angle :"},null,10,"°"]
[]
[]
[{"$f":"Translations!B48","v":"Directory"}]
[{"$f":"Translations!B21","v":"File"}]

{"sheet":"Data","index":2,"n_rows":84,"n_cols":19,"rows_kept":84,"cut":false,"hidden":false,"merged":[[32,13,33,15],[6,1,6,5],[9,3,9,5],[9,7,9,9],[18,12,19,12],[20,11,22,11],[28,11,29,11]]}
[{"$f":"Setup!A1","v":"MCG Tools"},null,null,null,null,null,null,null,null,null,null,null,null,null,null,null,null,null,"ABCDH"]
[{"$f":"Translations!B82","v":"Version 0.365.1"}]
[null,{"$f":"Translations!B24","v":"Data points"}]
[]
[]
[{"$f":"Translations!B21","v":"File"},"c:\\MCG150d.dmo"]
[{"$f":"Translations!B22","v":"Date Time"},{"$f":"HiddenDataResult!B26","v":"2015-04-07T18:08:36"}]
[]
[]
[null,null,null,"Calculate",null,null,null,{"$f":"Translations!B106","v":"Target Points"},0,0,null,null,{"$f":"Translations!B27","v":"Radius"},null,{"$f":"HiddenDataResult!C2","v":380.00002330849253},{"$f":"HiddenDataResult!H1","v":" mm"},{"$f":"Translations!B29","v":"min"},{"$f":"HiddenDataResult!C6","v":-2.3308492473006481E-2},{"$f":"HiddenDataResult!H2","v":" um"}]
[null,null,null,null,null,null,null,null,null,null,null,{"$f":"Translations!B26","v":"Sphere"},null,null,null,null,{"$f":"Translations!B30","v":"max"},{"$f":"HiddenDataResult!C7","v":1.9889309612608486E-2},{"$f":"S10","v":" um"}]
[{"$f":"Translations!B23","v":"Number of points"},72,null,"X","Y","Z",null,"X","Y","Z",null,null,null,"O.x",{"$f":"HiddenDataResult!C3","v":-1.6488217199978694E-14},{"$f":"P10","v":" mm"},{"$f":"Translations!B31","v":"span"},{"$f":"HiddenDataResult!C8","v":4.3197802085614967E-2},{"$f":"S10","v":" um"}]
[null,null,1,378.55399999999997,-33.119199999999999,0,null,378.55399999999997,-33.119199999999999,0,null,null,{"$f":"Translations!B28","v":"Centre O"},"O.y",{"$f":"HiddenDataResult!C4","v":-6.8793654430362038E-15},{"$f":"P10","v":" mm"},{"$f":"Translations!B32","v":"Standard deviation"},{"$f":"HiddenDataResult!C9","v":1.0741719699165079E-2},{"$f":"S10","v":" um"}]
[null,null,2,380,0,0,null,380,0,0,null,null,null,"O.z",{"$f":"HiddenDataResult!C5","v":-3.9602351522370424E-6},{"$f":"P10","v":" mm"}]
[null,null,3,378.55399999999997,33.119199999999999,0,null,378.55399999999997,33.119199999999999,0,null,null,null,null,null,null,{"$f":"Translations!B98","v":"Admissible error"},{"$f":"HiddenDataResult!C31","v":4.0200000932339703},{"$f":"S11","v":" um"}]
[null,null,4,291.09690000000001,244.2593,0,null,291.09690000000001,244.2593,0,null,null,null,null,null,null,{"$f":"Translations!B99","v":"Max measured error"},{"$f":"HiddenDataResult!C32","v":2.3308492473006481E-2},{"$f":"S11","v":" um"}]
[null,null,5,268.70060000000001,268.70060000000001,0,null,268.70060000000001,268.70060000000001,0]
[null,null,6,244.2593,291.09690000000001,0,null,244.2593,291.09690000000001,0]
[null,null,7,33.119199999999999,378.55399999999997,0,null,33.119199999999999,378.55399999999997,0,null,null,{"$f":"Translations!B34","v":"Relative scale errors"},"Jx",{"$f":"HiddenDataResult!C10","v":-2.0258841978206085E-2},{"$f":"HiddenDataResult!I2","v":" um/m"},{"$f":"Q10","v":"min"},{"$f":"HiddenDataResult!C22","v":-1.5641799873199799E-2},{"$f":"S10","v":" um"}]
[null,null,8,0,380,0,null,0,380,0,null,null,null,"Jy",{"$f":"HiddenDataResult!C11","v":-2.025884197005997E-2},{"$f":"P19","v":" um/m"},{"$f":"Q11","v":"max"},{"$f":"HiddenDataResult!C23","v":1.7127656212506497E-2},{"$f":"S11","v":" um"}]
[null,null,9,-33.119199999999999,378.55399999999997,0,null,-33.119199999999999,378.55399999999997,0,null,{"$f":"Translations!B33","v":"Identified geometrical errors"},null,"Jz",{"$f":"HiddenDataResult!C12","v":4.6649756242712961E-2},{"$f":"P19","v":" um/m"},{"$f":"Q12","v":"span"},{"$f":"HiddenDataResult!C24","v":3.2769456085706292E-2},{"$f":"S12","v":" um"}]
[null,null,10,-244.2593,291.09690000000001,0,null,-244.2593,291.09690000000001,0,null,null,null,null,null,null,{"$f":"Q13","v":"Standard deviation"},{"$f":"HiddenDataResult!C25","v":9.2364531460919028E-3},{"$f":"S13","v":" um"}]
[null,null,11,-268.70060000000001,268.70060000000001,0,null,-268.70060000000001,268.70060000000001,0,null,null,null,"XY",{"$f":"HiddenDataResult!C13","v":-7.4240603206239961E-19},{"$f":"HiddenDataResult!H3","v":" uRad"}]
[null,null,12,-291.09690000000001,244.2593,0,null,-291.09690000000001,244.2593,0,null,null,{"$f":"Translations!B35","v":"Squareness"},"YZ",{"$f":"HiddenDataResult!C14","v":3.816715948840656E-18},{"$f":"P23","v":" uRad"},{"$f":"Q15","v":"Admissible error"},{"$f":"R15","v":4.0200000932339703},{"$f":"S11","v":" um"}]
[null,null,13,-378.55399999999997,33.119199999999999,0,null,-378.55399999999997,33.119199999999999,0,null,null,null,"ZX",{"$f":"HiddenDataResult!C15","v":2.7556699526118915E-12},{"$f":"P23","v":" uRad"},{"$f":"Translations!B100","v":"Max residual error"},{"$f":"HiddenDataResult!C33","v":1.7127656212506497E-2},{"$f":"S24","v":" um"}]
[null,null,14,-380,0,0,null,-380,0,0]
[null,null,15,-378.55399999999997,-33.119199999999999,0,null,-378.55399999999997,-33.119199999999999,0]
[null,null,16,-291.09690000000001,-244.2593,0,null,-291.09690000000001,-244.2593,0,null,null,null,"TX",{"$f":"HiddenDataResult!C19","v":7.8483047285116066E-12},{"$f":"S11","v":" um"}]
[null,null,17,-268.70060000000001,-268.70060000000001,0,null,-268.70060000000001,-268.70060000000001,0,null,{"$f":"Translations!B36","v":"Pivot"},{"$f":"Translations!B37","v":"Offsets"},"TY",{"$f":"HiddenDataResult!C20","v":-1.3724341594205688E-19},{"$f":"P28","v":" um"}]
[null,null,18,-244.2593,-291.09690000000001,0,null,-244.2593,-291.09690000000001,0,null,null,null,"TZ",{"$f":"HiddenDataResult!C21","v":-1.9070647656567825E-3},{"$f":"P28","v":" um"}]
[null,null,19,-33.119199999999999,-378.55399999999997,0,null,-33.119199999999999,-378.55399999999997,0]
[null,null,20,0,-380,0,null,0,-380,0]
[null,null,21,33.119199999999999,-378.55399999999997,0,null,33.119199999999999,-378.55399999999997,0,null,null,null,{"$f":"Translations!B38","v":"Record in Database"}]
[null,null,22,244.2593,-291.09690000000001,0,null,244.2593,-291.09690000000001,0,null,{"$f":"Translations!B70","v":"Database"}]
[null,null,23,268.70060000000001,-268.70060000000001,0,null,268.70060000000001,-268.70060000000001,0]
[null,null,24,291.09690000000001,-244.2593,0,null,291.09690000000001,-244.2593,0]
[null,null,25,267.67809999999997,-23.418800000000001,268.70060000000001,null,267.67809999999997,-23.418800000000001,268.70060000000001]
[null,null,26,268.70060000000001,0,268.70060000000001,null,268.70060000000001,0,268.70060000000001,null,{"$f":"Translations!B69","v":"Charts gain"},2500]
[null,null,27,267.67809999999997,23.418800000000001,268.70060000000001,null,267.67809999999997,23.418800000000001,268.70060000000001]
[null,null,28,205.8366,172.7174,268.70060000000001,null,205.8366,172.7174,268.70060000000001]
[null,null,29,190,190,268.70060000000001,null,190,190,268.70060000000001]
[null,null,30,172.7174,205.8366,268.70060000000001,null,172.7174,205.8366,268.70060000000001]
[null,null,31,23.418800000000001,267.67809999999997,268.70060000000001,null,23.418800000000001,267.67809999999997,268.70060000000001]
[null,null,32,0,268.70060000000001,268.70060000000001,null,0,268.70060000000001,268.70060000000001]
[null,null,33,-23.418800000000001,267.67809999999997,268.70060000000001,null,-23.418800000000001,267.67809999999997,268.70060000000001]
[null,null,34,-172.7174,205.8366,268.70060000000001,null,-172.7174,205.8366,268.70060000000001]
[null,null,35,-190,190,268.70060000000001,null,-190,190,268.70060000000001]
[null,null,36,-205.8366,172.7174,268.70060000000001,null,-205.8366,172.7174,268.70060000000001]
[null,null,37,-267.67809999999997,23.418800000000001,268.70060000000001,null,-267.67809999999997,23.418800000000001,268.70060000000001]
[null,null,38,-268.70060000000001,0,268.70060000000001,null,-268.70060000000001,0,268.70060000000001]
[null,null,39,-267.67809999999997,-23.418800000000001,268.70060000000001,null,-267.67809999999997,-23.418800000000001,268.70060000000001]
[null,null,40,-205.8366,-172.7174,268.70060000000001,null,-205.8366,-172.7174,268.70060000000001]
[null,null,41,-190,-190,268.70060000000001,null,-190,-190,268.70060000000001]
[null,null,42,-172.7174,-205.8366,268.70060000000001,null,-172.7174,-205.8366,268.70060000000001]
[null,null,43,-23.418800000000001,-267.67809999999997,268.70060000000001,null,-23.418800000000001,-267.67809999999997,268.70060000000001]
[null,null,44,0,-268.70060000000001,268.70060000000001,null,0,-268.70060000000001,268.70060000000001]
[null,null,45,23.418800000000001,-267.67809999999997,268.70060000000001,null,23.418800000000001,-267.67809999999997,268.70060000000001]
[null,null,46,172.7174,-205.8366,268.70060000000001,null,172.7174,-205.8366,268.70060000000001]
[null,null,47,190,-190,268.70060000000001,null,190,-190,268.70060000000001]
[null,null,48,205.8366,-172.7174,268.70060000000001,null,205.8366,-172.7174,268.70060000000001]
[null,null,49,289.98919999999998,-25.370799999999999,-244.2593,null,289.98919999999998,-25.370799999999999,-244.2593]
[null,null,50,291.09690000000001,0,-244.2593,null,291.09690000000001,0,-244.2593]
[null,null,51,289.98919999999998,25.370799999999999,-244.2593,null,289.98919999999998,25.370799999999999,-244.2593]
[null,null,52,222.9932,187.11349999999999,-244.2593,null,222.9932,187.11349999999999,-244.2593]
[null,null,53,205.8366,205.8366,-244.2593,null,205.8366,205.8366,-244.2593]
[null,null,54,187.11349999999999,222.9932,-244.2593,null,187.11349999999999,222.9932,-244.2593]
[null,null,55,25.370799999999999,289.98919999999998,-244.2593,null,25.370799999999999,289.98919999999998,-244.2593]
[null,null,56,0,291.09690000000001,-244.2593,null,0,291.09690000000001,-244.2593]
[null,null,57,-25.370799999999999,289.98919999999998,-244.2593,null,-25.370799999999999,289.98919999999998,-244.2593]
[null,null,58,-187.11349999999999,222.9932,-244.2593,null,-187.11349999999999,222.9932,-244.2593]
[null,null,59,-205.8366,205.8366,-244.2593,null,-205.8366,205.8366,-244.2593]
[null,null,60,-222.9932,187.11349999999999,-244.2593,null,-222.9932,187.11349999999999,-244.2593]
[null,null,61,-289.98919999999998,25.370799999999999,-244.2593,null,-289.98919999999998,25.370799999999999,-244.2593]
[null,null,62,-291.09690000000001,0,-244.2593,null,-291.09690000000001,0,-244.2593]
[null,null,63,-289.98919999999998,-25.370799999999999,-244.2593,null,-289.98919999999998,-25.370799999999999,-244.2593]
[null,null,64,-222.9932,-187.11349999999999,-244.2593,null,-222.9932,-187.11349999999999,-244.2593]
[null,null,65,-205.8366,-205.8366,-244.2593,null,-205.8366,-205.8366,-244.2593]
[null,null,66,-187.11349999999999,-222.9932,-244.2593,null,-187.11349999999999,-222.9932,-244.2593]
[null,null,67,-25.370799999999999,-289.98919999999998,-244.2593,null,-25.370799999999999,-289.98919999999998,-244.2593]
[null,null,68,0,-291.09690000000001,-244.2593,null,0,-291.09690000000001,-244.2593]
[null,null,69,25.370799999999999,-289.98919999999998,-244.2593,null,25.370799999999999,-289.98919999999998,-244.2593]
[null,null,70,187.11349999999999,-222.9932,-244.2593,null,187.11349999999999,-222.9932,-244.2593]
[null,null,71,205.8366,-205.8366,-244.2593,null,205.8366,-205.8366,-244.2593]
[null,null,72,222.9932,-187.11349999999999,-244.2593,null,222.9932,-187.11349999999999,-244.2593]

{"sheet":"Analysis","index":3,"n_rows":73,"n_cols":15,"rows_kept":73,"cut":false,"hidden":false,"merged":[[12,5,13,7],[14,0,15,0]]}
[{"$f":"Translations!B39","v":"MCG Analysis"},null,null,null,null,null,null,"ABCDH"]
[{"$f":"Translations!B82","v":"Version 0.365.1"}]
[null,{"$f":"Data!B6","v":"c:\\MCG150d.dmo"}]
[]
[{"$f":"Translations!B26","v":"Sphere"},null,null,null,null,{"$f":"Translations!B104","v":"Current form errors"}]
[null,{"$f":"Translations!B27","v":"Radius"},{"$f":"Data!O10","v":380.00002330849253},{"$f":"Data!P10","v":" mm"},null,{"$f":"Translations!B29","v":"min"},{"$f":"Data!R10","v":-2.3308492473006481E-2},{"$f":"Data!S10","v":" um"}]
[null,"O.x",{"$f":"Data!O12","v":-1.6488217199978694E-14},{"$f":"Data!P12","v":" mm"},null,{"$f":"Translations!B30","v":"max"},{"$f":"Data!R11","v":1.9889309612608486E-2},{"$f":"Data!S11","v":" um"}]
[{"$f":"Translations!B28","v":"Centre O"},"O.y",{"$f":"Data!O13","v":-6.8793654430362038E-15},{"$f":"Data!P13","v":" mm"},null,{"$f":"Translations!B31","v":"span"},{"$f":"Data!R12","v":4.3197802085614967E-2},{"$f":"Data!S12","v":" um"}]
[null,"O.z",{"$f":"Data!O14","v":-3.9602351522370424E-6},{"$f":"Data!P14","v":" mm"},null,{"$f":"Translations!B32","v":"Standard deviation"},{"$f":"Data!R13","v":1.0741719699165079E-2},{"$f":"Data!S13","v":" um"}]
[null,null,null,null,null,{"$f":"Data!Q15","v":"Admissible error"},{"$f":"Data!R15","v":4.0200000932339703},{"$f":"Data!S15","v":" um"}]
[null,null,null,null,null,{"$f":"Data!Q16","v":"Max measured error"},{"$f":"Data!R16","v":2.3308492473006481E-2},{"$f":"Data!S16","v":" um"}]
[]
[{"$f":"Translations!B33","v":"Identified geometrical errors"},null,null,null,null,{"$f":"Translations!B105","v":"Form errors if identified geometrical errors were corrected"}]
[]
[{"$f":"Translations!B34","v":"Relative scale errors"},"Jx",{"$f":"Data!O19","v":-2.0258841978206085E-2},{"$f":"Data!P19","v":" um/m"},null,{"$f":"F6","v":"min"},{"$f":"Data!R19","v":-1.5641799873199799E-2},{"$f":"Data!S19","v":" um"}]
[null,"Jy",{"$f":"Data!O20","v":-2.025884197005997E-2},{"$f":"Data!P20","v":" um/m"},null,{"$f":"F7","v":"max"},{"$f":"Data!R20","v":1.7127656212506497E-2},{"$f":"Data!S20","v":" um"}]
[null,"Jz",{"$f":"Data!O21","v":4.6649756242712961E-2},{"$f":"Data!P21","v":" um/m"},null,{"$f":"F8","v":"span"},{"$f":"Data!R21","v":3.2769456085706292E-2},{"$f":"Data!S21","v":" um"}]
[null,"XY",{"$f":"Data!O23","v":-7.4240603206239961E-19},{"$f":"Data!P23","v":" uRad"},null,{"$f":"F9","v":"Standard deviation"},{"$f":"Data!R22","v":9.2364531460919028E-3},{"$f":"Data!S22","v":" um"}]
[{"$f":"Translations!B35","v":"Squareness"},"YZ",{"$f":"Data!O24","v":3.816715948840656E-18},{"$f":"Data!P24","v":" uRad"},null,{"$f":"Data!Q24","v":"Admissible error"},{"$f":"Data!R24","v":4.0200000932339703},{"$f":"Data!S24","v":" um"}]
[null,"ZX",{"$f":"Data!O25","v":2.7556699526118915E-12},{"$f":"Data!P25","v":" uRad"},null,{"$f":"Data!Q25","v":"Max residual error"},{"$f":"Data!R25","v":1.7127656212506497E-2},{"$f":"Data!S25","v":" um"}]
[]
[{"$f":"Data!L38","v":"Charts gain"},{"$f":"Data!M38","v":2500}]
[]
[]
[]
[]
[]
[]
[]
[]
[]
[]
[]
[]
[]
[]
[]
[]
[]
[]
[]
[]
[]
[]
[]
[]
[]
[{"$f":"A1","v":"MCG Analysis"},null,null,null,null,null,null,null,null,null,null,null,null,null,"ABCDH"]
[{"$f":"A2","v":"Version 0.365.1"}]
[null,{"$f":"B3","v":"c:\\MCG150d.dmo"},null,null,null,null,null,null,null,null,null,null,null,null,{"$f":"NOW()","v":"2015-11-17T09:00:17.810"}]
[{"$f":"Translations!B71 &HiddenDataResult!H2","v":"Data errors and identified geometrical errors in  um"}]
[]
[]
[]
[]
[]
[]
[]
[]
[]
[]
[]
[]
[]
[]
[]
[]
[]
[]
[]
[]
[]
[{"$f":"Translations!B72 & HiddenDataResult!H2","v":"Residual form errors in  um"}]

{"sheet":"Database","index":4,"n_rows":4,"n_cols":21,"rows_kept":4,"cut":false,"hidden":false,"merged":[]}
[{"$f":"Setup!A1","v":"MCG Tools"},null,null,null,null,null,null,null,null,null,null,null,null,null,"ABCDH",null,null,null,null,null,"ABCDH"]
[{"$f":"Setup!A2","v":"Version 0.365.1"}]
[null,{"$f":"Translations!B70","v":"Database"}]
[{"$f":"Translations!B22","v":"Date Time"},"Jx ( µm/m )","Jy ( µm / m )","Jz ( µm/m )","X┴Y ( µrad )","Y┴Z ( µrad )","Z┴X ( µrad )","Min (*1000)","Max (*1000)",{"$f":"Translations!B98","v":"Admissible error"},"Span (*1000)",{"$f":"Translations!B21","v":"File"},{"$f":"Translations!B87","v":"Temperature"},{"$f":"Translations!B88","v":"Atmospheric pressure"},{"$f":"Translations!B89","v":"Air humidity"},{"$f":"Translations!B17","v":"MCG Identification"},{"$f":"Translations!B18","v":"Arm length"},{"$f":"Translations!B11","v":"Probe type"},{"$f":"Translations!B12","v":"Probe Identification"},{"$f":"Translations!B16","v":"Operator"},{"$f":"Translations!B81","v":"Comments"}]

{"sheet":"Database charts","index":5,"n_rows":3,"n_cols":31,"rows_kept":3,"cut":false,"hidden":false,"merged":[[2,11,2,12],[2,20,2,21],[2,29,2,30],[11,10,11,11]]}
[{"$f":"Setup!A1","v":"MCG Tools"},null,null,null,null,null,null,null,null,null,null,null,"ABCDH",{"$f":"A1","v":"MCG Tools"},null,null,null,null,null,null,null,"ABCDH",{"$f":"N1","v":"MCG Tools"},null,null,null,null,null,null,null,"ABCDH"]
[{"$f":"Analysis!A2","v":"Version 0.365.1"},null,null,null,null,null,null,null,null,null,null,null,null,{"$f":"A2","v":"Version 0.365.1"},null,null,null,null,null,null,null,null,{"$f":"N2","v":"Version 0.365.1"}]
[null,{"$f":"Translations!B79","v":"Database charts"},null,null,null,null,null,null,null,null,null,{"$f":"NOW()","v":"2015-11-17T09:00:17.810"},null,null,null,null,null,null,null,null,{"$f":"NOW()","v":"2015-11-17T09:00:17.810"},null,null,null,null,null,null,null,null,{"$f":"NOW()","v":"2015-11-17T09:00:17.810"}]

{"sheet":"Data2","index":6,"n_rows":77,"n_cols":19,"rows_kept":77,"cut":false,"hidden":true,"merged":[]}
[380.00002330849253,0,379.98077740743275,0,380.00002330849253,0,379.98077740744048,0,380.00002330849253,0,379.98077740743275,0,null,null,"data Errors","Modelized errors",{"$f":"Translations!B74","v":"Data form errors"},{"$f":"Translations!B75","v":"Identified geometrical form errors"},{"$f":"Translations!B76","v":"Residual errors if identified geometrical errors were corrected"}]
[376.74907043113308,49.599956085988332,376.7299891814248,49.597443991808163,376.74907043113308,49.599956085988332,376.72998918143247,49.605740650640982,376.74907043113308,49.599956085988332,376.7299891814252,49.605740650640982,null,null,-7.0918613346293569E-6,-7.6983602922813287E-6,{"$f":"O2*HiddenDataResult!$G$2","v":-7.0918613346293569E-3},{"$f":"P2*HiddenDataResult!$G$2","v":-7.6983602922813289E-3},{"$f":"Q2-R2","v":6.0649895765197206E-4}]
[367.05183650412084,98.351243171639581,367.03324639123696,98.346261965907146,367.05183650412084,98.351243171639581,367.03324639124446,98.362713325439898,367.05183650412084,98.351243171639581,367.03324639123764,98.362713325439898,null,null,-2.3308492473006481E-5,-7.6983599637448092E-6,{"$f":"O3*HiddenDataResult!$G$2","v":-2.3308492473006481E-2},{"$f":"P3*HiddenDataResult!$G$2","v":-7.6983599637448089E-3},{"$f":"Q3-R3","v":-1.5610132509261673E-2}]
[351.0742438885282,145.41971321850789,351.05646299445431,145.41234813103432,351.0742438885282,145.41971321850789,351.05646299446147,145.43667270394423,351.0742438885282,145.41971321850789,351.05646299445533,145.43667270394423,null,null,-7.0918613346293569E-6,-7.6983602922813287E-6,{"$f":"O4*HiddenDataResult!$G$2","v":-7.0918613346293569E-3},{"$f":"P4*HiddenDataResult!$G$2","v":-7.6983602922813289E-3},6.0649895765197206E-4]
[329.08967362383345,190.00001165424609,329.07300618459692,189.99038870372007,329.08967362383345,190.00001165424609,329.07300618460363,190.02217028982056,329.08967362383345,190.00001165424609,329.07300618459823,190.02217028982056,null,null,-9.0636243612607359E-6,-7.6983602528864988E-6,{"$f":"O5*HiddenDataResult!$G$2","v":-9.0636243612607359E-3},{"$f":"P5*HiddenDataResult!$G$2","v":-7.6983602528864986E-3},-1.3652641083742372E-3]
[301.47428780253995,231.32935721262487,301.45901900264721,231.31764105039787,301.47428780253995,231.32935721262487,301.45901900265341,231.35633585793926,301.47428780253995,231.32935721262487,301.45901900264886,231.35633585793926,null,null,9.429295573681884E-6,-7.6983606277254357E-6,{"$f":"O6*HiddenDataResult!$G$2","v":9.429295573681884E-3},{"$f":"P6*HiddenDataResult!$G$2","v":-7.6983606277254354E-3},1.7127656201407319E-2]
[268.70059333248139,268.70059333248093,268.68698442533196,268.68698442533696,268.70059333248139,268.70059333248093,268.68698442533741,268.73193037543399,268.70059333248139,268.70059333248093,268.68698442533383,268.73193037543399,null,null,-9.063624304417317E-6,-7.698360253316324E-6,{"$f":"O7*HiddenDataResult!$G$2","v":-9.063624304417317E-3},{"$f":"P7*HiddenDataResult!$G$2","v":-7.6983602533163241E-3},-1.3652640511009929E-3]
[231.32935721262535,301.47428780253955,231.31764105039363,301.45901900265301,231.32935721262535,301.47428780253955,231.31764105039835,301.50944705763811,231.32935721262535,301.47428780253955,231.31764105039571,301.50944705763811,null,null,-7.0918613346293569E-6,-7.6983602963672462E-6,{"$f":"O8*HiddenDataResult!$G$2","v":-7.0918613346293569E-3},{"$f":"P8*HiddenDataResult!$G$2","v":-7.6983602963672463E-3},6.0649896173788943E-4]
[190.00001165424661,329.08967362383316,189.99038870371672,329.07300618460334,190.00001165424661,329.08967362383316,189.99038870372058,329.12805350647454,190.00001165424661,329.08967362383316,189.99038870371896,329.12805350647454,null,null,-2.3308492473006481E-5,-7.698359968497589E-6,{"$f":"O9*HiddenDataResult!$G$2","v":-2.3308492473006481E-2},{"$f":"P9*HiddenDataResult!$G$2","v":-7.6983599684975887E-3},-1.5610132504508892E-2]
[145.41971321850843,351.07424388852797,145.41234813103191,351.05646299446124,145.41971321850843,351.07424388852797,145.41234813103486,351.11518770827922,145.41971321850843,351.07424388852797,145.41234813103432,351.11518770827922,null,null,-7.0918613346293569E-6,-7.6983602977352959E-6,{"$f":"O10*HiddenDataResult!$G$2","v":-7.0918613346293569E-3},{"$f":"P10*HiddenDataResult!$G$2","v":-7.6983602977352961E-3},6.064989631059392E-4]
[98.351243171640149,367.05183650412073,98.346261965905711,367.03324639124435,98.351243171640149,367.05183650412073,98.346261965907715,367.09464370087414,98.351243171640149,367.05183650412073,98.346261965908241,367.09464370087414,null,null,-9.0636243612607359E-6,-7.6983602634059077E-6,{"$f":"O11*HiddenDataResult!$G$2","v":-9.0636243612607359E-3},{"$f":"P11*HiddenDataResult!$G$2","v":-7.6983602634059078E-3},-1.3652640978548281E-3]
[49.599956085988936,376.74907043113302,49.597443991807758,376.72998918143242,49.599956085988936,376.74907043113302,49.597443991808767,376.79300856188371,49.599956085988936,376.74907043113302,49.597443991810351,376.79300856188371,null,null,9.429295573681884E-6,-7.6983606388246133E-6,{"$f":"O12*HiddenDataResult!$G$2","v":9.429295573681884E-3},{"$f":"P12*HiddenDataResult!$G$2","v":-7.6983606388246134E-3},1.7127656212506497E-2]
[6.1390620747906992E-13,380.00002330849253,6.1387440962117934E-13,379.98077740744048,6.1390620747906992E-13,380.00002330849253,6.1387874078733933E-13,380.04434057964147,6.1390620747906992E-13,380.00002330849253,3.231761730464531E-12,380.04434057964147,null,null,-9.0636243612607359E-6,-7.698360264910799E-6,{"$f":"O13*HiddenDataResult!$G$2","v":-9.0636243612607359E-3},{"$f":"P13*HiddenDataResult!$G$2","v":-7.6983602649107986E-3},-1.3652640963499373E-3]
[-49.599956085987706,376.74907043113319,-49.597443991806529,376.72998918143259,-49.599956085987706,376.74907043113319,-49.597443991807538,376.79300856188388,-49.599956085987706,376.74907043113319,-49.597443991803928,376.79300856188388,null,null,-7.0918613346293569E-6,-7.6983603079182074E-6,{"$f":"O14*HiddenDataResult!$G$2","v":-7.0918613346293569E-3},{"$f":"P14*HiddenDataResult!$G$2","v":-7.698360307918207E-3},6.0649897328885014E-4]
[-98.35124317163897,367.05183650412101,-98.346261965904532,367.03324639124463,-98.35124317163897,367.05183650412101,-98.346261965906535,367.09464370087443,-98.35124317163897,367.05183650412101,-98.346261965902002,367.09464370087443,null,null,-2.3308492473006481E-5,-7.6983599794414173E-6,{"$f":"O15*HiddenDataResult!$G$2","v":-2.3308492473006481E-2},{"$f":"P15*HiddenDataResult!$G$2","v":-7.698359979441417E-3},-1.5610132493565064E-2]
[-145.4197132185073,351.07424388852843,-145.41234813103077,351.0564629944617,-145.4197132185073,351.07424388852843,-145.41234813103372,351.11518770827968,-145.4197132185073,351.07424388852843,-145.41234813102835,351.11518770827968,null,null,-7.0918613346293569E-6,-7.6983603079182074E-6,{"$f":"O16*HiddenDataResult!$G$2","v":-7.0918613346293569E-3},{"$f":"P16*HiddenDataResult!$G$2","v":-7.698360307918207E-3},6.0649897328885014E-4]
[-190.00001165424561,329.08967362383368,-189.99038870371572,329.07300618460386,-190.00001165424561,329.08967362383368,-189.99038870371959,329.12805350647506,-190.00001165424561,329.08967362383368,-189.99038870371345,329.12805350647506,null,null,-9.0636243612607359E-6,-7.698360264910799E-6,{"$f":"O17*HiddenDataResult!$G$2","v":-9.0636243612607359E-3},{"$f":"P17*HiddenDataResult!$G$2","v":-7.6983602649107986E-3},-1.3652640963499373E-3]
[-231.32935721262439,301.47428780254029,-231.31764105039267,301.45901900265375,-231.32935721262439,301.47428780254029,-231.31764105039738,301.50944705763885,-231.32935721262439,301.47428780254029,-231.31764105039059,301.50944705763885,null,null,9.429295573681884E-6,-7.6983606388246133E-6,{"$f":"O18*HiddenDataResult!$G$2","v":9.429295573681884E-3},{"$f":"P18*HiddenDataResult!$G$2","v":-7.6983606388246134E-3},1.7127656212506497E-2]
[-268.70059333248059,268.70059333248179,-268.68698442533116,268.68698442533781,-268.70059333248059,268.70059333248179,-268.68698442533662,268.73193037543484,-268.70059333248059,268.70059333248179,-268.68698442532929,268.73193037543484,null,null,-9.0636243612607359E-6,-7.6983602634059077E-6,{"$f":"O19*HiddenDataResult!$G$2","v":-9.0636243612607359E-3},{"$f":"P19*HiddenDataResult!$G$2","v":-7.6983602634059078E-3},-1.3652640978548281E-3]
[-301.47428780253915,231.32935721262578,-301.45901900264641,231.31764105039878,-301.47428780253915,231.32935721262578,-301.45901900265261,231.35633585794017,-301.47428780253915,231.32935721262578,-301.45901900264482,231.35633585794017,null,null,-7.0918613346293569E-6,-7.6983602977352959E-6,{"$f":"O20*HiddenDataResult!$G$2","v":-7.0918613346293569E-3},{"$f":"P20*HiddenDataResult!$G$2","v":-7.6983602977352961E-3},6.064989631059392E-4]
[-329.08967362383288,190.00001165424712,-329.07300618459635,189.99038870372109,-329.08967362383288,190.00001165424712,-329.07300618460306,190.02217028982159,-329.08967362383288,190.00001165424712,-329.07300618459504,190.02217028982159,null,null,-2.3308492473006481E-5,-7.698359968497589E-6,{"$f":"O21*HiddenDataResult!$G$2","v":-2.3308492473006481E-2},{"$f":"P21*HiddenDataResult!$G$2","v":-7.6983599684975887E-3},-1.5610132504508892E-2]
[-351.07424388852775,145.419713218509,-351.05646299445385,145.41234813103543,-351.07424388852775,145.419713218509,-351.05646299446101,145.43667270394533,-351.07424388852775,145.419713218509,-351.05646299445283,145.43667270394533,null,null,-7.0918613346293569E-6,-7.6983602963672462E-6,{"$f":"O22*HiddenDataResult!$G$2","v":-7.0918613346293569E-3},{"$f":"P22*HiddenDataResult!$G$2","v":-7.6983602963672463E-3},6.0649896173788943E-4]
[-367.05183650412056,98.351243171640732,-367.03324639123667,98.346261965908297,-367.05183650412056,98.351243171640732,-367.03324639124418,98.36271332544105,-367.05183650412056,98.351243171640732,-367.03324639123599,98.36271332544105,null,null,-9.063624304417317E-6,-7.6983602533163223E-6,{"$f":"O23*HiddenDataResult!$G$2","v":-9.063624304417317E-3},{"$f":"P23*HiddenDataResult!$G$2","v":-7.6983602533163224E-3},-1.3652640511009947E-3]
[-376.74907043113296,49.599956085989547,-376.72998918142468,49.597443991809378,-376.74907043113296,49.599956085989547,-376.72998918143236,49.605740650642197,-376.74907043113296,49.599956085989547,-376.72998918142434,49.605740650642197,null,null,9.429295573681884E-6,-7.6983606277254357E-6,{"$f":"O24*HiddenDataResult!$G$2","v":9.429295573681884E-3},{"$f":"P24*HiddenDataResult!$G$2","v":-7.6983606277254354E-3},1.7127656201407319E-2]
[-380.00002330849253,1.2278124149581398E-12,-379.98077740743275,1.2277502298139311E-12,-380.00002330849253,1.2278124149581398E-12,-379.98077740744048,1.2279556078328138E-12,-380.00002330849253,1.2278124149581398E-12,-379.98077740743275,1.2279556078328138E-12,null,null,-9.0636243612607359E-6,-7.6983602528864988E-6,{"$f":"O25*HiddenDataResult!$G$2","v":-9.0636243612607359E-3},{"$f":"P25*HiddenDataResult!$G$2","v":-7.6983602528864986E-3},-1.3652641083742372E-3]
[-376.74907043113325,-49.59995608598711,-376.72998918142497,-49.597443991806941,-376.74907043113325,-49.59995608598711,-376.72998918143264,-49.60574065063976,-376.74907043113325,-49.59995608598711,-376.72998918142537,-49.60574065063976,null,null,2.9831448955519591E-6,3.6657763985727593E-6,{"$f":"O26*HiddenDataResult!$G$2","v":2.9831448955519591E-3},{"$f":"P26*HiddenDataResult!$G$2","v":3.6657763985727594E-3},-6.8263150302080031E-4]
[-367.05183650412118,-98.351243171638373,-367.0332463912373,-98.346261965905938,-367.05183650412118,-98.351243171638373,-367.0332463912448,-98.362713325438691,-367.05183650412118,-98.351243171638373,-367.03324639123798,-98.362713325438691,null,null,1.2229604692493012E-5,3.6657759347404278E-6,{"$f":"O27*HiddenDataResult!$G$2","v":1.2229604692493012E-2},{"$f":"P27*HiddenDataResult!$G$2","v":3.6657759347404279E-3},8.5638287577525854E-3]
[-351.07424388852871,-145.41971321850673,-351.05646299445482,-145.41234813103316,-351.07424388852871,-145.41971321850673,-351.05646299446198,-145.43667270394306,-351.07424388852871,-145.41971321850673,-351.05646299445584,-145.43667270394306,null,null,2.9831448955519591E-6,3.6657763985727593E-6,{"$f":"O28*HiddenDataResult!$G$2","v":2.9831448955519591E-3},{"$f":"P28*HiddenDataResult!$G$2","v":3.6657763985727594E-3},-6.8263150302080031E-4]
[-329.08967362383407,-190.00001165424499,-329.07300618459755,-189.99038870371896,-329.08967362383407,-190.00001165424499,-329.07300618460425,-190.02217028981946,-329.08967362383407,-190.00001165424499,-329.07300618459885,-190.02217028981946,null,null,3.9690264657110674E-6,3.6657763483465422E-6,{"$f":"O29*HiddenDataResult!$G$2","v":3.9690264657110674E-3},{"$f":"P29*HiddenDataResult!$G$2","v":3.6657763483465421E-3},3.0325011736452535E-4]
[-301.47428780254069,-231.32935721262385,-301.45901900264795,-231.31764105039684,-301.47428780254069,-231.32935721262385,-301.45901900265414,-231.35633585793823,-301.47428780254069,-231.32935721262385,-301.4590190026496,-231.35633585793823,null,null,-4.1392888761038193E-6,3.6657767548722757E-6,{"$f":"O30*HiddenDataResult!$G$2","v":-4.1392888761038193E-3},{"$f":"P30*HiddenDataResult!$G$2","v":3.6657767548722757E-3},-7.8050656309760951E-3]
[-268.7005933324823,-268.70059333248008,-268.68698442533287,-268.68698442533611,-268.7005933324823,-268.70059333248008,-268.68698442533832,-268.73193037543314,-268.7005933324823,-268.70059333248008,-268.68698442533474,-268.73193037543314,null,null,3.9690264657110674E-6,3.6657763478667489E-6,{"$f":"O31*HiddenDataResult!$G$2","v":3.9690264657110674E-3},{"$f":"P31*HiddenDataResult!$G$2","v":3.6657763478667488E-3},3.0325011784431864E-4]
[-231.32935721262621,-301.47428780253887,-231.31764105039449,-301.45901900265233,-231.32935721262621,-301.47428780253887,-231.3176410503992,-301.50944705763743,-231.32935721262621,-301.47428780253887,-231.31764105039656,-301.50944705763743,null,null,2.9831448955519591E-6,3.665776394576263E-6,{"$f":"O32*HiddenDataResult!$G$2","v":2.9831448955519591E-3},{"$f":"P32*HiddenDataResult!$G$2","v":3.6657763945762631E-3},-6.8263149902430403E-4]
[-190.00001165424757,-329.08967362383254,-189.99038870371768,-329.07300618460272,-190.00001165424757,-329.08967362383254,-189.99038870372155,-329.12805350647392,-190.00001165424757,-329.08967362383254,-189.99038870371993,-329.12805350647392,null,null,1.2229604692493012E-5,3.6657759302150238E-6,{"$f":"O33*HiddenDataResult!$G$2","v":1.2229604692493012E-2},{"$f":"P33*HiddenDataResult!$G$2","v":3.665775930215024E-3},8.563828762277988E-3]
[-145.41971321850949,-351.07424388852758,-145.41234813103296,-351.05646299446084,-145.41971321850949,-351.07424388852758,-145.41234813103591,-351.11518770827882,-145.41971321850949,-351.07424388852758,-145.41234813103537,-351.11518770827882,null,null,2.9831448955519591E-6,3.6657763935176404E-6,{"$f":"O34*HiddenDataResult!$G$2","v":2.9831448955519591E-3},{"$f":"P34*HiddenDataResult!$G$2","v":3.6657763935176403E-3},-6.8263149796568123E-4]
[-98.351243171641258,-367.05183650412044,-98.34626196590682,-367.03324639124406,-98.351243171641258,-367.05183650412044,-98.346261965908823,-367.09464370087386,-98.351243171641258,-367.05183650412044,-98.346261965909349,-367.09464370087386,null,null,3.9690264657110674E-6,3.6657763400592371E-6,{"$f":"O35*HiddenDataResult!$G$2","v":3.9690264657110674E-3},{"$f":"P35*HiddenDataResult!$G$2","v":3.6657763400592372E-3},3.0325012565183022E-4]
[-49.599956085990058,-376.74907043113291,-49.597443991808881,-376.7299891814323,-49.599956085990058,-376.74907043113291,-49.597443991809889,-376.7930085618836,-49.599956085990058,-376.74907043113291,-49.597443991811474,-376.7930085618836,null,null,-4.1392888761038193E-6,3.6657767462835217E-6,{"$f":"O36*HiddenDataResult!$G$2","v":-4.1392888761038193E-3},{"$f":"P36*HiddenDataResult!$G$2","v":3.6657767462835215E-3},-7.8050656223873412E-3]
[-1.757341667390173E-12,-380.00002330849253,-1.7572519578365459E-12,-379.98077740744048,-1.757341667390173E-12,-380.00002330849253,-1.7572562890027293E-12,-380.04434057964147,-1.757341667390173E-12,-380.00002330849253,-4.375139278679897E-12,-380.04434057964147,null,null,3.9690264088676486E-6,3.6657763390419124E-6,{"$f":"O37*HiddenDataResult!$G$2","v":3.9690264088676486E-3},{"$f":"P37*HiddenDataResult!$G$2","v":3.6657763390419125E-3},3.0325006982573604E-4]
[49.599956085986584,-376.74907043113336,49.597443991805406,-376.72998918143276,49.599956085986584,-376.74907043113336,49.597443991806415,-376.79300856188405,49.599956085986584,-376.74907043113336,49.597443991802805,-376.79300856188405,null,null,2.9831448955519591E-6,3.6657763864726463E-6,{"$f":"O38*HiddenDataResult!$G$2","v":2.9831448955519591E-3},{"$f":"P38*HiddenDataResult!$G$2","v":3.6657763864726464E-3},-6.826314909206873E-4]
[98.351243171637861,-367.05183650412135,98.346261965903423,-367.03324639124497,98.351243171637861,-367.05183650412135,98.346261965905427,-367.09464370087477,98.351243171637861,-367.05183650412135,98.346261965900894,-367.09464370087477,null,null,1.2229604692493012E-5,3.6657759225940939E-6,{"$f":"O39*HiddenDataResult!$G$2","v":1.2229604692493012E-2},{"$f":"P39*HiddenDataResult!$G$2","v":3.665775922594094E-3},8.5638287698989179E-3]
[145.41971321850625,-351.07424388852888,145.41234813102972,-351.05646299446215,145.41971321850625,-351.07424388852888,145.41234813103267,-351.11518770828013,145.41971321850625,-351.07424388852888,145.4123481310273,-351.11518770828013,null,null,2.9831448955519591E-6,3.6657763864726463E-6,{"$f":"O40*HiddenDataResult!$G$2","v":2.9831448955519591E-3},{"$f":"P40*HiddenDataResult!$G$2","v":3.6657763864726464E-3},-6.826314909206873E-4]
[190.00001165424453,-329.08967362383436,189.99038870371464,-329.07300618460454,190.00001165424453,-329.08967362383436,189.99038870371851,-329.12805350647574,190.00001165424453,-329.08967362383436,189.99038870371237,-329.12805350647574,null,null,3.9690264088676486E-6,3.6657763390419116E-6,{"$f":"O41*HiddenDataResult!$G$2","v":3.9690264088676486E-3},{"$f":"P41*HiddenDataResult!$G$2","v":3.6657763390419117E-3},3.0325006982573691E-4]
[231.32935721262342,-301.47428780254103,231.3176410503917,-301.45901900265449,231.32935721262342,-301.47428780254103,231.31764105039642,-301.50944705763959,231.32935721262342,-301.47428780254103,231.31764105038962,-301.50944705763959,null,null,-4.1392888761038193E-6,3.6657767462835208E-6,{"$f":"O42*HiddenDataResult!$G$2","v":-4.1392888761038193E-3},{"$f":"P42*HiddenDataResult!$G$2","v":3.665776746283521E-3},-7.8050656223873404E-3]
[268.70059333247968,-268.7005933324827,268.68698442533025,-268.68698442533872,268.70059333247968,-268.7005933324827,268.68698442533571,-268.73193037543575,268.70059333247968,-268.7005933324827,268.68698442532838,-268.73193037543575,null,null,3.9690264657110674E-6,3.6657763400592362E-6,{"$f":"O43*HiddenDataResult!$G$2","v":3.9690264657110674E-3},{"$f":"P43*HiddenDataResult!$G$2","v":3.6657763400592363E-3},3.0325012565183109E-4]
[301.47428780253847,-231.3293572126268,301.45901900264573,-231.3176410503998,301.47428780253847,-231.3293572126268,301.45901900265193,-231.35633585794119,301.47428780253847,-231.3293572126268,301.45901900264414,-231.35633585794119,null,null,2.9831448955519591E-6,3.6657763935176387E-6,{"$f":"O44*HiddenDataResult!$G$2","v":2.9831448955519591E-3},{"$f":"P44*HiddenDataResult!$G$2","v":3.6657763935176385E-3},-6.8263149796567949E-4]
[329.0896736238322,-190.0000116542482,329.07300618459567,-189.99038870372218,329.0896736238322,-190.0000116542482,329.07300618460238,-190.02217028982267,329.0896736238322,-190.0000116542482,329.07300618459436,-190.02217028982267,null,null,1.2229604692493012E-5,3.6657759302150221E-6,{"$f":"O45*HiddenDataResult!$G$2","v":1.2229604692493012E-2},{"$f":"P45*HiddenDataResult!$G$2","v":3.6657759302150222E-3},8.5638287622779898E-3]
[351.07424388852723,-145.41971321851014,351.05646299445334,-145.41234813103657,351.07424388852723,-145.41971321851014,351.0564629944605,-145.43667270394647,351.07424388852723,-145.41971321851014,351.05646299445232,-145.43667270394647,null,null,2.9831448955519591E-6,3.6657763945762622E-6,{"$f":"O46*HiddenDataResult!$G$2","v":2.9831448955519591E-3},{"$f":"P46*HiddenDataResult!$G$2","v":3.6657763945762622E-3},-6.8263149902430317E-4]
[367.05183650412022,-98.35124317164194,367.03324639123633,-98.346261965909505,367.05183650412022,-98.35124317164194,367.03324639124384,-98.362713325442257,367.05183650412022,-98.35124317164194,367.03324639123565,-98.362713325442257,null,null,3.9690264657110674E-6,3.665776347866748E-6,{"$f":"O47*HiddenDataResult!$G$2","v":3.9690264657110674E-3},{"$f":"P47*HiddenDataResult!$G$2","v":3.6657763478667479E-3},3.0325011784431951E-4]
[376.74907043113279,-49.599956085990755,376.72998918142451,-49.597443991810586,376.74907043113279,-49.599956085990755,376.72998918143219,-49.605740650643405,376.74907043113279,-49.599956085990755,376.72998918142417,-49.605740650643405,null,null,-4.1392888761038193E-6,3.6657767548722748E-6,{"$f":"O48*HiddenDataResult!$G$2","v":-4.1392888761038193E-3},{"$f":"P48*HiddenDataResult!$G$2","v":3.6657767548722749E-3},-7.8050656309760942E-3]
[380.00002330849253,-2.4556248299162797E-12,379.98077740743275,-2.4555004596278622E-12,380.00002330849253,-2.4556248299162797E-12,379.98077740744048,-2.4559112156656276E-12,380.00002330849253,-2.4556248299162797E-12,379.98077740743275,-2.4559112156656276E-12,null,null,3.9690264657110674E-6,3.6657763483465414E-6,{"$f":"O49*HiddenDataResult!$G$2","v":3.9690264657110674E-3},{"$f":"P49*HiddenDataResult!$G$2","v":3.6657763483465412E-3},3.0325011736452622E-4]
[null,null,null,null,null,null,null,null,null,null,null,null,null,null,-5.3070181138537009E-7,4.0325848814167426E-6,{"$f":"O50*HiddenDataResult!$G$2","v":-5.3070181138537009E-4},{"$f":"P50*HiddenDataResult!$G$2","v":4.0325848814167422E-3},-4.5632866928021123E-3]
[null,null,null,null,null,null,null,null,null,null,null,null,null,null,-1.1609214425334358E-5,4.0325854478654394E-6,{"$f":"O51*HiddenDataResult!$G$2","v":-1.1609214425334358E-2},{"$f":"P51*HiddenDataResult!$G$2","v":4.0325854478654392E-3},-1.5641799873199795E-2]
[null,null,null,null,null,null,null,null,null,null,null,null,null,null,-5.3070181138537009E-7,4.0325848814167417E-6,{"$f":"O52*HiddenDataResult!$G$2","v":-5.3070181138537009E-4},{"$f":"P52*HiddenDataResult!$G$2","v":4.0325848814167413E-3},-4.5632866928021114E-3]
[null,null,null,null,null,null,null,null,null,null,null,null,null,null,1.9889309612608486E-5,4.0325838368184434E-6,{"$f":"O53*HiddenDataResult!$G$2","v":1.9889309612608486E-2},{"$f":"P53*HiddenDataResult!$G$2","v":4.0325838368184437E-3},1.5856725775790042E-2]
[null,null,null,null,null,null,null,null,null,null,null,null,null,null,-2.9124910838618234E-6,4.0325850025025173E-6,{"$f":"O54*HiddenDataResult!$G$2","v":-2.9124910838618234E-3},{"$f":"P54*HiddenDataResult!$G$2","v":4.0325850025025173E-3},-6.9450760863643407E-3]
[null,null,null,null,null,null,null,null,null,null,null,null,null,null,1.9889309612608486E-5,4.0325838364563961E-6,{"$f":"O55*HiddenDataResult!$G$2","v":1.9889309612608486E-2},{"$f":"P55*HiddenDataResult!$G$2","v":4.0325838364563965E-3},1.5856725776152089E-2]
[null,null,null,null,null,null,null,null,null,null,null,null,null,null,-5.3070181138537009E-7,4.0325848782091169E-6,{"$f":"O56*HiddenDataResult!$G$2","v":-5.3070181138537009E-4},{"$f":"P56*HiddenDataResult!$G$2","v":4.0325848782091171E-3},-4.5632866895944871E-3]
[null,null,null,null,null,null,null,null,null,null,null,null,null,null,-1.1609214425334358E-5,4.0325854441854395E-6,{"$f":"O57*HiddenDataResult!$G$2","v":-1.1609214425334358E-2},{"$f":"P57*HiddenDataResult!$G$2","v":4.0325854441854393E-3},-1.5641799869519798E-2]
[null,null,null,null,null,null,null,null,null,null,null,null,null,null,-5.3070181138537009E-7,4.0325848772510074E-6,{"$f":"O58*HiddenDataResult!$G$2","v":-5.3070181138537009E-4},{"$f":"P58*HiddenDataResult!$G$2","v":4.0325848772510076E-3},-4.5632866886363777E-3]
[null,null,null,null,null,null,null,null,null,null,null,null,null,null,1.9889309612608486E-5,4.0325838293901974E-6,{"$f":"O59*HiddenDataResult!$G$2","v":1.9889309612608486E-2},{"$f":"P59*HiddenDataResult!$G$2","v":4.0325838293901973E-3},1.5856725783218287E-2]
[null,null,null,null,null,null,null,null,null,null,null,null,null,null,-2.9124911407052423E-6,4.032584994729257E-6,{"$f":"O60*HiddenDataResult!$G$2","v":-2.9124911407052423E-3},{"$f":"P60*HiddenDataResult!$G$2","v":4.0325849947292569E-3},-6.9450761354344992E-3]
[null,null,null,null,null,null,null,null,null,null,null,null,null,null,1.9889309612608486E-5,4.0325838283972757E-6,{"$f":"O61*HiddenDataResult!$G$2","v":1.9889309612608486E-2},{"$f":"P61*HiddenDataResult!$G$2","v":4.0325838283972754E-3},1.5856725784211212E-2]
[null,null,null,null,null,null,null,null,null,null,null,null,null,null,-5.3070181138537009E-7,4.0325848704655188E-6,{"$f":"O62*HiddenDataResult!$G$2","v":-5.3070181138537009E-4},{"$f":"P62*HiddenDataResult!$G$2","v":4.0325848704655188E-3},-4.5632866818508888E-3]
[null,null,null,null,null,null,null,null,null,null,null,null,null,null,-1.1609214425334358E-5,4.0325854368723849E-6,{"$f":"O63*HiddenDataResult!$G$2","v":-1.1609214425334358E-2},{"$f":"P63*HiddenDataResult!$G$2","v":4.0325854368723846E-3},-1.5641799862206741E-2]
[null,null,null,null,null,null,null,null,null,null,null,null,null,null,-5.3070181138537009E-7,4.0325848704655205E-6,{"$f":"O64*HiddenDataResult!$G$2","v":-5.3070181138537009E-4},{"$f":"P64*HiddenDataResult!$G$2","v":4.0325848704655205E-3},-4.5632866818508906E-3]
[null,null,null,null,null,null,null,null,null,null,null,null,null,null,1.9889309612608486E-5,4.0325838283972766E-6,{"$f":"O65*HiddenDataResult!$G$2","v":1.9889309612608486E-2},{"$f":"P65*HiddenDataResult!$G$2","v":4.0325838283972763E-3},1.5856725784211208E-2]
[null,null,null,null,null,null,null,null,null,null,null,null,null,null,-2.9124911407052423E-6,4.0325849947292578E-6,{"$f":"O66*HiddenDataResult!$G$2","v":-2.9124911407052423E-3},{"$f":"P66*HiddenDataResult!$G$2","v":4.0325849947292578E-3},-6.9450761354345001E-3]
[null,null,null,null,null,null,null,null,null,null,null,null,null,null,1.9889309612608486E-5,4.0325838293901991E-6,{"$f":"O67*HiddenDataResult!$G$2","v":1.9889309612608486E-2},{"$f":"P67*HiddenDataResult!$G$2","v":4.0325838293901991E-3},{"$f":"Q67-R67","v":1.5856725783218287E-2}]
[null,null,null,null,null,null,null,null,null,null,null,null,null,null,-5.3070181138537009E-7,4.0325848772510091E-6,{"$f":"O68*HiddenDataResult!$G$2","v":-5.3070181138537009E-4},{"$f":"P68*HiddenDataResult!$G$2","v":4.0325848772510093E-3},-4.5632866886363794E-3]
[null,null,null,null,null,null,null,null,null,null,null,null,null,null,-1.1609214425334358E-5,4.0325854441854412E-6,{"$f":"O69*HiddenDataResult!$G$2","v":-1.1609214425334358E-2},{"$f":"P69*HiddenDataResult!$G$2","v":4.032585444185441E-3},-1.5641799869519798E-2]
[null,null,null,null,null,null,null,null,null,null,null,null,null,null,-5.3070181138537009E-7,4.0325848782091178E-6,{"$f":"O70*HiddenDataResult!$G$2","v":-5.3070181138537009E-4},{"$f":"P70*HiddenDataResult!$G$2","v":4.0325848782091179E-3},-4.563286689594488E-3]
[null,null,null,null,null,null,null,null,null,null,null,null,null,null,1.9889309612608486E-5,4.032583836456397E-6,{"$f":"O71*HiddenDataResult!$G$2","v":1.9889309612608486E-2},{"$f":"P71*HiddenDataResult!$G$2","v":4.0325838364563974E-3},1.5856725776152089E-2]
[null,null,null,null,null,null,null,null,null,null,null,null,null,null,-2.9124910838618234E-6,4.032585002502519E-6,{"$f":"O72*HiddenDataResult!$G$2","v":-2.9124910838618234E-3},{"$f":"P72*HiddenDataResult!$G$2","v":4.032585002502519E-3},-6.9450760863643424E-3]
[null,null,null,null,null,null,null,null,null,null,null,null,null,null,1.9889309612608486E-5,4.0325838368184443E-6,{"$f":"O73*HiddenDataResult!$G$2","v":1.9889309612608486E-2},{"$f":"P73*HiddenDataResult!$G$2","v":4.0325838368184446E-3},1.5856725775790042E-2]
[null,null,null,null,null,null,null,null,null,null,null,null,null,null,-34.221887698585746,-17.182773813223402]
[null,null,null,null,null,null,null,null,null,null,null,null,null,null,-35.22185750512778,-16.37921064849364]
[null,null,null,null,null,null,null,null,null,null,null,null,null,null,3.4238283618985861,-5.4989390377499641]
[null,null,null,null,null,null,null,null,null,null,null,null,null,null,-34.221897904971634,-17.182720072051385]

{"sheet":"Translations","index":7,"n_rows":116,"n_cols":8,"rows_kept":116,"cut":false,"hidden":true,"merged":[]}
["nb Langue","English","0.365.1","日本語","English","Français","Deutsch","Español"]
[5,"Setup","Command","セットアップ","Setup","Commandes","Setup","Pedidos"]
[null,"CMM",null,"三次元測定機","CMM","MMT","KMG","MMC"]
[null,"Measurement configuration",null,"測定概要","Measurement configuration","Configuration de mesure","Mess-Konfiguration","Configuración de la medida"]
[null,"DMIS sequence",null,"DMISシーケンス","DMIS sequence","Gamme de mesure DMIS","DMIS-Sequenz","Secuencia DMIS"]
[null,"Data import and analysis",null,"データの取込み   解析","Data import and analysis","Importation et analyse des données","Datenimport und Analyse","Importación de datos y análisis"]
[null,"Machine",null,"機種","Machine","Machine","Maschine","Máquina"]
[null,"Serial Number",null,"シリアルナンバー","Serial Number","Numéro de série","Serien-Nr.","Número de Serie"]
[null,"Scales resolution",null,"スケール分解能","Scales resolution","Résolution des règles","Auflösung Wegmesssystem","Resolución de las reglas"]
[null,"Single point repeatability",null,"シングルポイント繰返精度","Single point repeatability","Répétabilite d'un point de mesure","Wiederholgenauigkeit Einzelpunkte","Repetibilidad de punto único"]
[null,"Probe type",null,"プローブタイプ","Probe type","Type du palpeur","Messtaster-Typ","Tipo de sonda"]
[null,"Probe Identification",null,"プローブシリアルナンバー","Probe Identification","Identification du palpeur","Messtaster Identifikation","Identificación de sonda"]
[null,"Write DMIS sequence…",null,"DMIS測定プログラム作成","Write DMIS sequence…","Ecrire une gamme de mesure DMIS…","Schreibe DMIS Sequenz….","Escribir secuencia DMIS…"]
[null,"Data Import…",null,"データ取込み","Data Import…","Importer un fichier de mesure…","Datenimport","Importar datos…"]
[null,"File format not supported",null,"読み込むことのできないファイル形式です","File format not supported","Le format de fichier n'est pas supporté","Dateiformat wird nicht unterstüzt","Formato de fichero no soportado"]
[null,"Operator",null,"作業者","Operator","Opérateur","Anwender","Operario"]
[null,"MCG Identification",null,"MCG番号","MCG Identification","Identification du MCG","MCG Identifikation","Identificación MCG"]
[null,"Arm length",null,"アーム長さ","Arm length","Longueur du bras","Arm Länge MCG","Longitud del brazo"]
[null,"Translation",null,"言語","Translation","Traduction","Sprache","Traslación"]
[null,"Data","Points","データ","Data","Données","Daten","Datos"]
[null,"File",null,"ファイル","File","Fichier","Datei","Fichero"]
[null,"Date Time",null,"解析日","Date Time","Date Heure","Datum Zeit","Fecha Hora"]
[null,"Number of points",null,"測定点数","Number of points","Nombre de points","Anzahl der Punkte","Número de puntos"]
[null,"Data points",null,"データポイント","Data points","Points de mesure","Messpunkte","Puntos de datos"]
[null,"Analysis",null,"解析","Analysis","Analyse","Analyse","Análisis"]
[null,"Sphere",null,"測定結果","Sphere","Sphere","Kugel","Esfera"]
[null,"Radius",null,"アーム長さ","Radius","Rayon","Radius","Radio"]
[null,"Centre O",null,"中心点誤差","Centre O","Centre O","Zentrum O","Centro O"]
[null,"min",null,"最小値","min","min","min","mín"]
[null,"max",null,"最大値","max","max","max","máx"]
[null,"span",null,"スパン","span","Etendue","Spannweite","lapso"]
[null,"Standard deviation",null,"標準偏差","Standard deviation","Ecart type","Standardabweichung","Desviación estándar"]
[null,"Identified geometrical errors",null,"特定される幾何学的誤差","Identified geometrical errors","Erreurs de géometrie identifiées","Geometrische Fehler","Errores geométricos identificados"]
[null,"Relative scale errors",null,"相対的スケールエラー","Relative scale errors","Justesses relatives","Relativer Skalierfehler","Errores de regla relativa"]
[null,"Squareness",null,"直角度","Squareness","Equerrages","Rechtwinkligkeit","Cuadratura"]
[null,"Pivot",null,"ピボット","Pivot","Pivot","MCG Kugelzentrum","Pivote"]
[null,"Offsets",null,"オフセット","Offsets","Offsets","Offset","Offsets"]
[null,"Record in Database",null,"データベースに登録","Record in Database","Enregistrer dans la base de donnees","Aufzeichung in Datenbank","Registrar en base de datos"]
[null,"MCG Analysis","PV","MCG解析","MCG Analysis","Analyse MCG","MCG Analyse","Análisis MCG"]
[null,"Squareness sign convention","Command","座標系の設定","Squareness sign convention","Convension de signe des équerrages","KMG Typ ","Convención de signos de cuadratura"]
[null,"DMIS Sequence","FRMGamme","DMISシーケンス","DMIS Sequence","Gamme de mesure DMIS","DMIS Sequenz","Secuencia DMIS"]
[null,"Standard",null,"標準","Standard","Standard","Standard","Estándar"]
[null,"Arm length",null,"アーム長さ","Arm length","Longueur du bras","Armlänge MCG","Longitud de brazo"]
[null,"Number of points per circle",null,"1週あたりの測定点数","Number of points per circle","Nombre de points par cercle","Anzahl der Punkte je Kreismessung","Número de puntos por ciclo"]
[null,"Circles latitude",null,"円の緯度","Circles latitude","Latitude des cercles","Radiale Kreiswinkelposition ","Latitud de círculos"]
[null,"° north, equator, ",null,"° 北緯, 水平, ","° north, equator, ","° nord, équateur, ","° Nord, Äquator","° norte, ecuador, "]
[null,"° south",null,"° 南緯","° south","° sud","° Süd","° sur"]
[null,"Directory",null,"ディレクトリー","Directory","Répertoire","Verzeichnis","Directorio"]
[null,"Generate",null,"実行","Generate","Générer","Erzeuge","Generar"]
[null,"number of measurements",null,"測定点数","number of measurements","Nombre de mesures","Anzahl der Messungen","número de medidas"]
[null,"Sequence saved",null,"シーケンスを保存しました","Sequence saved","Gamme de mesure enregistrée","Sequenz gespeichert","Secuencia registrada"]
[null,"MCG sequence",null,"MCG シーケンス","MCG sequence","Gamme de mesure du MCG","MCG Sequenz","Secuencia MCG"]
[null,"Move the stylus ball above the MCG pivot sphere",null,"スタイラスをMCGのピボットの上方に動かしてください。","Move the stylus ball above the MCG pivot sphere","Positionnez le centre bille palpeur à la verticale du pivot du MCG","Postitionieren Sie die Tastkugel über das MCG Kugelzentrum","Mover la bola del palpador sobre la esfera del pivote del MCG"]
[null,"Engage the MCG fork on the stylus",null,"アームフォーク部にスタイラスをセットしてください","Engage the MCG fork on the stylus","Engagez la fourchette du MCG sur la bille du stylet","Postitionieren Sie die Tastkugel in die MCG-Armgabel","Fije la horquilla del MCG en el palpador"]
[null,"All files",null,"全ファイル","All files","Tous fichiers","Alle Dateien","Todos los ficheros"]
[null,"Fork length :",null,"フォーク長さ :","Fork length :","Longueur de fourchette :","MCG Gabellänge:","Longitud de la horquilla:"]
[null,"Angle :",null,"角度 :","Angle :","Angle :","Winkel:","Ángulo:"]
[null,"DMIS result",null,"DMIS結果","DMIS result","Résultat DMIS","DMIS Ergebnis:","Resultado DMIS"]
[null,"Open measurement file",null,"測定ファイルを開く","Open measurement file","Ouverture d'une mesure","Öffne Datei der Messung","Fichero de medición abierto"]
[null,"File not found",null,"ファイルが見つかりません","File not found","Fichier non trouvé","Datei nicht gefunden","Fichero no encontrado"]
[null,"Saving error",null,"保存エラー","Saving error","Erreur d'enregistrement","Fehler gespeichert","Salvando error"]
[null,"Chain of solids not found",null,"座標系が見つかりません","Chain of solids not found","Chaine de solides non trouvée","KMG Typ nicht gefunden","Cadena de sólidos no encontrada"]
[null,"The Vector Number ","Grahm-Schmitt","ベクターナンバー","The Vector Number ","Le vecteur n° ","Vektorennummer","El vector nº"]
[null," is equal to zero!",null,"ゼロに等しい"," is equal to zero!"," est nul !","ist Null","es igual a cero!"]
[null," is linear dependent !",null,"直線成分依存"," is linear dependent !"," est linéairement dépendant !","ist linearbedingt","es linealmente dependiente!"]
[null,"Units",null,"単位","Units","Unités","Einheiten","Unidades"]
[null,"Sphere Optimisation Failure",null,"球の最適化エラー","Sphere Optimisation Failure","Echec de l'optimisation de la sphère","Kugeloptimierungsfehler","Fallo de optimización de esfera"]
[null,"First guess failure",null,"初期計算エラー","First guess failure","Echec de la recherche d'une sphère initiale","Inizierte Lösung misslungen","Fallo de primera estimación"]
[null,"Charts gain","Points","チャートゲイン","Charts gain","Amplification","Grafikplot","Amplifiación"]
[null,"Database","DataBase","データベース","Database","Base de données","Datenbank","Base de datos"]
[null,"Data errors and identified geometrical errors in ","PV","測定点誤差","Data errors and identified geometrical errors in ","Erreurs de forme et défauts géometriques analysés en ","Datenfehler und identifizierte Geometrische Fehler in","Errores de datos y errores geométricos identificados en"]
[null,"Residual form errors in ",null,"幾何学誤差修正後の空間精度","Residual form errors in ","Erreurs de forme résiduelles en ","Restliche Formfehler in","Errores residuales de forma en"]
[null,"MCG","DataBase","MCG","MCG","MCG","Maschinenprüflehre MCG","MCG"]
[null,"Data form errors","PV","測定点誤差","Data form errors","Ecarts mesurés","Daten Formfehler","Errores de forma de datos"]
[null,"Identified geometrical form errors",null,"ベストフィットで算出した測定点誤差","Identified geometrical form errors","Ecarts dus aux erreurs de géométrie identifiées","Identifizierte geometrische Formfehler","Errores de forma geométrica identificados"]
[null,"Residual errors if identified geometrical errors were corrected",null,"幾何学誤差修正後の測定点誤差","Residual errors if identified geometrical errors were corrected","Ecarts Résiduels avec correction des erreurs de geometrie identifiees","Restliche Fehler wenn identifizierte geometrische Fehler korrigiert wurden","Errores residuales si los errores de forma geométrica fueron corregidos "]
[null,"Measurement results archived","DataBase","測定結果は登録されました","Measurement results archived","Résultat de mesure archivée","Erreichte Messergebnisse","Resultados de mediciones archivados"]
[null,"Database recording",null,"データベースに登録中","Database recording","Enregistrement dans la base de données","Aufzeichnung Datenbank","Almacenamiento en la base de datos"]
[null,"Database charts",null,"チャート","Database charts","Graphiques de suivie","Datenbankplots","Gráficos de la base de datos"]
[null,"Analysis","PV","解析","Analysis","Analyse","Analyse","Análisis"]
[null,"Comments","FrmAboutBox","コメント","Comments","Commentaires","Kommentar","Comentarios"]
[null,"Version 0.365.1",null,{"$f":"\"バージョン \" & $C$1","v":"バージョン 0.365.1"},{"$f":"\"Version \" & $C$1","v":"Version 0.365.1"},{"$f":"\"Version \" & $C$1","v":"Version 0.365.1"},{"$f":"\"Version \" & $C$1","v":"Version 0.365.1"},{"$f":"\"Versión \" & $C$1","v":"Versión 0.365.1"}]
[null,"MCG Tools",null,"MCGツール","MCG Tools","MCG Tools","MCG Bauteile","Herramientas MCG"]
[null,"Close",null,"閉じる","Close","Fermer","Schließen","Cerrar"]
[null,"Calculate",null,"解析実行","Calculate","Calculer","Berechnen","Calcular"]
[null,"Measuring conditions",null,"測定環境","Measuring conditions","Conditions de mesure","Messbedingungen","Condiciones de medición"]
[null,"Temperature",null,"温度","Temperature","Température","Temperatur","Temperatura"]
[null,"Atmospheric pressure",null,"気圧","Atmospheric pressure","Pression atmospherique","Luftdruck","Presión atmosférica"]
[null,"Air humidity",null,"湿度","Air humidity","Humidité de l'air","Luftfeuchtigkeit","Humedad del aire"]
[null,"( Alt + Ent for next ligne )",null,"( Alt + Ent 次行)","( Alt + Ent for next ligne )","( Alt + Ent pour saut de ligne )","(Alt + Enter für nächste line )","( Alt + Ent para trayectoria siguiente )"]
[null,"Manufacturer Name ",null,"メーカー名","Manufacturer Name ","Nom du constructeur","Hersteller Name","Nombre del fabricante"]
[null,"Type/N° of CMM",null,"三次元測定機タイプ/ナンバー","Type/N° of CMM","Type/N° de machine","Typ/Nr des KMG","Tipo/nº de MMC"]
[null,"MCG Serial number",null,"MCGシリアルナンバー","MCG Serial number","N° de série du MCG","Serien Nr. MCG","Número de serie del MCG"]
[null,"TP2, …",null,"TP2, …","TP2, …","TP2, …","TP2, …","TP2, …"]
[null,"Serial Number",null,"シリアルナンバー","Serial Number","N° Série","Seriennummer","Número de serie"]
[null,"Operator Name",null,"作業者名","Operator Name","Nom de l'opérateur","Name des Prüfers","Nombre del operario"]
[null," (L in mm)","Command","(L:mm)"," (L in mm)"," (L en mm)","(L in mm)"," (L en mm)"]
[null,"Admissible error",null,"許容誤差","Admissible error","Erreur admissible","Zulässiger Fehler","Error admisible"]
[null,"Max measured error",null,"最大誤差","Max measured error","Erreur maxi mesurée","Max gemessener Fehler","Máximo error medido"]
[null,"Max residual error",null,"最大残差","Max residual error","Erreur maxi résiduelle","Max restliche Fehler","Máximo error residual"]
[null,"Form errors unwrapped in XY plan","PV","XY平面の空間精度異常","Form errors unwrapped in XY plan","Erreur de forme dépliées sur le plan XY","Formfehler in XY-Ebene","Errores de forma desarrollados en el plano XY"]
[null,"Measure the MCG pivot sphere","FRM Gamme","MCGのピボット球を測定してください","Measure the MCG pivot sphere","Palpez la sphere pivot du MCG","Messe das Zentrum der MCG-Kugel","Medir la esfera del pivote del MCG"]
[null,"The results are exported to ",null,"結果をエクスポートします","The results are exported to ","Les resultats sont sauvegardés dans ","Die Ergebnisse wurden exportiert auf ","Los resultados son exportados a "]
[null,"Current form errors",null,"空間精度","Current form errors","Erreurs de forme actuelles","Momentaner Formfehler","Errores de forma actual"]
[null,"Form errors if identified geometrical errors were corrected",null,"特定された幾何学的誤差を修正した場合の空間精度","Form errors if identified geometrical errors were corrected","Erreurs de forme avec correction des erreurs de géométrie identifiées","Formfehler falls geometrische Fehler korrekt","Errores de forma si los errores geometricos identificados fueron corregidos"]
[null,"Target Points",null,"測定点座標","Target Points","Points théoriques","Nominale Punkte","Puntos teóricos"]
[null,"Target points only",null,"測定店座標のみ","Target points only","Points théoriques uniquement","Ausschließlich nominale Punkte","Sólo puntos teóricos"]
[null,"Chain of solids X-Y-Z",null,"X-Y-Z座標系","Chain of solids X-Y-Z","Chaine de solides X-Y-Z","KMG Typ X-Y-Z","Cadena de sólidos X-Y-Z"]
[null,"Chain of solids Y-X-Z",null,"Y-X-Z座標系","Chain of solids Y-X-Z","Chaine de solides Y-X-Z","KMG Typ  Y-X-Z","Cadena de sólidos Y-X-Z"]
[null,"Chain of solids X-Z-Y",null,"X-Z-Y座標系","Chain of solids X-Z-Y","Chaine de solides X-Z-Y","KMG Typ  X-Z-Y","Cadena de sólidos X-Z-Y"]
[null,"UCC controller",null,"UCCコントローラー","UCC controller","UCC controller","UCC controller","Controlador UCC"]
[null,"Renishaw, Inc","Adress1","レニショー株式会社","Renishaw, Inc","Renishaw SAS","Renishaw, Inc","Renishaw, Inc"]
[null,"5277 Trillium Boulevard","Adress2","東京都新宿区四谷","5277 Trillium Boulevard","15 rue Albert Einstein","5277 Trillium Boulevard","5277 Trillium Boulevard"]
[null,"Hoffman Estates, IL, 60175","Adress3","4-29-8","Hoffman Estates, IL, 60175","77100 Champs sur Marne","Hoffman Estates, IL, 60175","Hoffman Estates, IL, 60175"]
[null,"Tel. (847) 286-9953","Adress4","Tel. 03-5366-5316","Tel. (847) 286-9953","Tel. +33 (0) 1 64 61 84 84","Tel. (847) 286-9953","Tel. (847) 286-9953"]
[null,"DMO File Name","FRM Gamme","DMOファイル名","DMO File Name","Nom du fichier DMO","DMO Datei","Fichero DMO"]

{"sheet":"HiddenDataResult","index":8,"n_rows":40,"n_cols":21,"rows_kept":40,"cut":false,"hidden":true,"merged":[]}
[null,null,null,null,"Translation scale",0,1," mm",null,"DataUnit","mm","ArmLength",101,"Standard","VDI/VDE 2617 U3","langues","日本語","Pt per Cir",8,"DMIS","MODUS"]
["Radius",380.00002330849253,{"$f":"B2*$G$1","v":380.00002330849253},null,"Translation error scale",0,1000," um"," um/m",1,"inch",null,151,3,"ASME B89.4.1",null,"English",3,16,1,"Metrolog"]
["x",-1.6488217199978694E-14,{"$f":"B3*$G$1","v":-1.6488217199978694E-14},null,"Rotation error scale",0,1000000," uRad",null,null,null,null,226,null,"ISO 10360-2 MPEe",null,"Français",null,24,null,"PC-DMIS"]
["y",-6.8793654430362038E-15,{"$f":"B4*$G$1","v":-6.8793654430362038E-15},null,null,null,null,null,null,null,null,null,380,null,null,null,"Deutsch",null,null,null,"Mitutoyo GeoMeasure 6000"]
["z",-3.9602351522370424E-6,{"$f":"B5*$G$1","v":-3.9602351522370424E-6},null,"Chaine de solide Index",{"$f":"G5-1","v":3},4,"linked to object",null,null,null,null,532,null,null,null,"Español"]
["min",-2.3308492473006481E-5,{"$f":"B6*$G$2","v":-2.3308492473006481E-2},null,null,null,null,null,null,null,null,null,685]
["max",1.9889309612608486E-5,{"$f":"B7*$G$2","v":1.9889309612608486E-2},null,"Adress Index",0,"init the about box with the correct address"]
["etendus",4.3197802085614967E-5,{"$f":"B8*$G$2","v":4.3197802085614967E-2}]
["STD",1.0741719699165079E-5,{"$f":"B9*$G$2","v":1.0741719699165079E-2},null,"Mesure achivee",1]
["JX",-2.0258841978206086E-8,{"$f":"B10*1000000","v":-2.0258841978206085E-2}]
["JY",-2.0258841970059968E-8,{"$f":"B11*1000000","v":-2.025884197005997E-2}]
["JZ",4.6649756242712962E-8,{"$f":"B12*1000000","v":4.6649756242712961E-2}]
["XY",-7.4240603206239961E-25,{"$f":"B13*$G$3","v":-7.4240603206239961E-19}]
["XZ",3.8167159488406563E-24,{"$f":"B14*$G$3","v":3.816715948840656E-18}]
["ZX",2.7556699526118916E-18,{"$f":"B15*$G$3","v":2.7556699526118915E-12}]
["Temperature",20,{"$f":"B16","v":20},"degC"]
["Pressure",1013,{"$f":"B17","v":1013}," mbar"]
["Humidity",50,{"$f":"B18","v":50}]
["tx",7.8483047285116073E-15,{"$f":"B19*$G$2","v":7.8483047285116066E-12}]
["ty",-1.3724341594205688E-22,-1.3724341594205688E-19]
["tz",-1.9070647656567825E-6,-1.9070647656567825E-3]
["min",-1.5641799873199798E-5,-1.5641799873199799E-2]
["max",1.7127656212506497E-5,1.7127656212506497E-2]
["etendue",3.2769456085706295E-5,3.2769456085706292E-2]
["std",9.2364531460919027E-6,9.2364531460919028E-3]
["Date","2015-04-07T18:08:36"]
[]
["DateMin",{"$f":"MIN(Database!A5:A65536)","v":0}]
["DateMax",{"$f":"MAX(Database!A5:A65536)","v":0}]
[]
["U3",{"$f":"IF(Setup!G9=0,Setup!F8/1000,MIN(Setup!F8+HiddenDataResult!B2/Setup!G9,Setup!H8)/1000)","v":4.0200000932339702E-3},{"$f":"B31*$G$2","v":4.0200000932339703}]
["U3Data",{"$f":"MAX(B7,-B6)","v":2.3308492473006481E-5},{"$f":"B32*$G$2","v":2.3308492473006481E-2}]
["U3Geo",{"$f":"MAX(B23,-B22)","v":1.7127656212506497E-5},{"$f":"B33*$G$2","v":1.7127656212506497E-2}]
[]
["JXSigma",0,{"$f":"B35*1000000","v":0}]
["JYSigma",0,{"$f":"B36*1000000","v":0}]
["JZSigma",0,{"$f":"B37*1000000","v":0}]
["XY sigma",0,{"$f":"B38*$G$3","v":0}]
["YZSigma",0,{"$f":"B39*$G$3","v":0}]
["ZXSigma",0,{"$f":"B40*$G$3","v":0}]